BEGIN:VCALENDAR
VERSION:2.0
PRODID:-//Escuela de Posgrado La Salle - ECPv6.15.20//NONSGML v1.0//EN
CALSCALE:GREGORIAN
METHOD:PUBLISH
X-WR-CALNAME:Escuela de Posgrado La Salle
X-ORIGINAL-URL:https://www.escueladeposgradolasalle.es
X-WR-CALDESC:Eventos para Escuela de Posgrado La Salle
REFRESH-INTERVAL;VALUE=DURATION:PT1H
X-Robots-Tag:noindex
X-PUBLISHED-TTL:PT1H
BEGIN:VTIMEZONE
TZID:Europe/Madrid
BEGIN:DAYLIGHT
TZOFFSETFROM:+0100
TZOFFSETTO:+0200
TZNAME:CEST
DTSTART:20220327T010000
END:DAYLIGHT
BEGIN:STANDARD
TZOFFSETFROM:+0200
TZOFFSETTO:+0100
TZNAME:CET
DTSTART:20221030T010000
END:STANDARD
BEGIN:DAYLIGHT
TZOFFSETFROM:+0100
TZOFFSETTO:+0200
TZNAME:CEST
DTSTART:20230326T010000
END:DAYLIGHT
BEGIN:STANDARD
TZOFFSETFROM:+0200
TZOFFSETTO:+0100
TZNAME:CET
DTSTART:20231029T010000
END:STANDARD
BEGIN:DAYLIGHT
TZOFFSETFROM:+0100
TZOFFSETTO:+0200
TZNAME:CEST
DTSTART:20240331T010000
END:DAYLIGHT
BEGIN:STANDARD
TZOFFSETFROM:+0200
TZOFFSETTO:+0100
TZNAME:CET
DTSTART:20241027T010000
END:STANDARD
END:VTIMEZONE
BEGIN:VEVENT
DTSTART;TZID=Europe/Madrid:20231123T180000
DTEND;TZID=Europe/Madrid:20231123T190000
DTSTAMP:20260420T142202
CREATED:20231010T084224Z
LAST-MODIFIED:20231103T130654Z
UID:15514-1700762400-1700766000@www.escueladeposgradolasalle.es
SUMMARY:Webinar: Talento y el NUEVO Aprendizaje corporativo
DESCRIPTION:Webinar\nTalento y el NUEVO Aprendizaje corporativo \nFecha\n23 de noviembre de 2023 \nHora\nDe 18 a 19 h. \nFormato\nOnline \nLugar\nAula virtual en directo \nPrecio\nGratuito \nDESCRIPCIÓN\n\n\n\nTe invitamos al Webinar sobre Talento y el NUEVO Aprendizaje corporativo el jueves 23 de noviembre a las 18.00 horas\, liderada por  Neus Portas\, experta referente en Learnability en España y directora de nuestro Programa Executive en Talento y Aprendizaje Corporativo  \nUn webinar de 20 minutos de duración que enlazaremos con la importancia de la figura de Chief Learning Officer (CLO)\,  un rol clave y estratégico para cerrar la brecha existente entre las capacidades actuales y las que necesita el negocio en un mercado altamente competitivo. \nSi quieres saber más\, participa en este encuentro. \n¡¡Te esperamos!!
URL:https://www.escueladeposgradolasalle.es/evento/sesion-informativa-virtual-programa-executive-de-talento-y-aprendizaje-corporativo/
CATEGORIES:EVENTOS
ATTACH;FMTTYPE=image/png:https://www.escueladeposgradolasalle.es/wp-content/uploads/2023/10/neusportas-e1699016141258.png
END:VEVENT
END:VCALENDAR