BEGIN:VCALENDAR
VERSION:2.0
PRODID:-//Escuela de Posgrado La Salle - ECPv6.15.20//NONSGML v1.0//EN
CALSCALE:GREGORIAN
METHOD:PUBLISH
X-ORIGINAL-URL:https://www.escueladeposgradolasalle.es
X-WR-CALDESC:Eventos para Escuela de Posgrado La Salle
REFRESH-INTERVAL;VALUE=DURATION:PT1H
X-Robots-Tag:noindex
X-PUBLISHED-TTL:PT1H
BEGIN:VTIMEZONE
TZID:Europe/Madrid
BEGIN:DAYLIGHT
TZOFFSETFROM:+0100
TZOFFSETTO:+0200
TZNAME:CEST
DTSTART:20220327T010000
END:DAYLIGHT
BEGIN:STANDARD
TZOFFSETFROM:+0200
TZOFFSETTO:+0100
TZNAME:CET
DTSTART:20221030T010000
END:STANDARD
BEGIN:DAYLIGHT
TZOFFSETFROM:+0100
TZOFFSETTO:+0200
TZNAME:CEST
DTSTART:20230326T010000
END:DAYLIGHT
BEGIN:STANDARD
TZOFFSETFROM:+0200
TZOFFSETTO:+0100
TZNAME:CET
DTSTART:20231029T010000
END:STANDARD
BEGIN:DAYLIGHT
TZOFFSETFROM:+0100
TZOFFSETTO:+0200
TZNAME:CEST
DTSTART:20240331T010000
END:DAYLIGHT
BEGIN:STANDARD
TZOFFSETFROM:+0200
TZOFFSETTO:+0100
TZNAME:CET
DTSTART:20241027T010000
END:STANDARD
END:VTIMEZONE
BEGIN:VEVENT
DTSTART;TZID=Europe/Madrid:20231010T150000
DTEND;TZID=Europe/Madrid:20231010T153000
DTSTAMP:20260421T105616
CREATED:20230718T102132Z
LAST-MODIFIED:20230919T090853Z
UID:15344-1696950000-1696951800@www.escueladeposgradolasalle.es
SUMMARY:Sesión Informativa Virtual: Máster en Customer Experience
DESCRIPTION:ÚLTIMA SESIÓN INFORMATIVA VIRTUAL\nMáster en Customer Experience\nFecha\n10 de octubre de 2023 \nHora\nDe 15 a 15:30h. \nFormato\nOnline \nLugar\nAula virtual en directo \nPrecio\nGratuito \nDESCRIPCIÓN\n\nLos profesionales de customer experience son un valor creciente cada vez más demandado. Los mercados cambian de manera constante y\, en este contexto\, diferenciarse resulta casi imposible. Para competir en el campo de la experiencia de cliente y gestionar lo constituye una de las mayores preocupaciones de las empresas\, es fundamental capacitarse en esta nueva disciplina. \nLos profesionales especializados en este área son ¡¡de gran valor para las empresas!!. El objetivo de esta experiencia de aprendizaje es prepararte para diseñar y gestionar la experiencia de cliente y que te certifiques como profesional. \n\n\nInscríbete a esta sesión informativa para impulsar tu carrera profesional y adquirir unas competencias de gestión más evolucionadas\, y una función más visible\, participativa y alineada con los objetivos del negocio. \nTe esperamos
URL:https://www.escueladeposgradolasalle.es/evento/sesion-informativa-virtual-master-customer-experience/
CATEGORIES:EVENTOS
ATTACH;FMTTYPE=image/jpeg:https://www.escueladeposgradolasalle.es/wp-content/uploads/2023/06/Imagen-CX-2023.jpg
END:VEVENT
END:VCALENDAR